BEGIN:VCALENDAR
VERSION:2.0
PRODID:-// - ECPv6.15.20//NONSGML v1.0//EN
CALSCALE:GREGORIAN
METHOD:PUBLISH
X-ORIGINAL-URL:https://dancingpinesmontessori.com
X-WR-CALDESC:Events for 
REFRESH-INTERVAL;VALUE=DURATION:PT1H
X-Robots-Tag:noindex
X-PUBLISHED-TTL:PT1H
BEGIN:VTIMEZONE
TZID:America/Los_Angeles
BEGIN:DAYLIGHT
TZOFFSETFROM:-0800
TZOFFSETTO:-0700
TZNAME:PDT
DTSTART:20200308T100000
END:DAYLIGHT
BEGIN:STANDARD
TZOFFSETFROM:-0700
TZOFFSETTO:-0800
TZNAME:PST
DTSTART:20201101T090000
END:STANDARD
BEGIN:DAYLIGHT
TZOFFSETFROM:-0800
TZOFFSETTO:-0700
TZNAME:PDT
DTSTART:20210314T100000
END:DAYLIGHT
BEGIN:STANDARD
TZOFFSETFROM:-0700
TZOFFSETTO:-0800
TZNAME:PST
DTSTART:20211107T090000
END:STANDARD
BEGIN:DAYLIGHT
TZOFFSETFROM:-0800
TZOFFSETTO:-0700
TZNAME:PDT
DTSTART:20220313T100000
END:DAYLIGHT
BEGIN:STANDARD
TZOFFSETFROM:-0700
TZOFFSETTO:-0800
TZNAME:PST
DTSTART:20221106T090000
END:STANDARD
BEGIN:DAYLIGHT
TZOFFSETFROM:-0800
TZOFFSETTO:-0700
TZNAME:PDT
DTSTART:20230312T100000
END:DAYLIGHT
BEGIN:STANDARD
TZOFFSETFROM:-0700
TZOFFSETTO:-0800
TZNAME:PST
DTSTART:20231105T090000
END:STANDARD
END:VTIMEZONE
BEGIN:VEVENT
DTSTART;VALUE=DATE:20220530
DTEND;VALUE=DATE:20220531
DTSTAMP:20260421T185352
CREATED:20211027T181954Z
LAST-MODIFIED:20211027T181954Z
UID:6157-1653868800-1653955199@dancingpinesmontessori.com
SUMMARY:No School: Memorial Day
DESCRIPTION:
URL:https://dancingpinesmontessori.com/event/no-school-memorial-day/
END:VEVENT
BEGIN:VEVENT
DTSTART;VALUE=DATE:20220527
DTEND;VALUE=DATE:20220528
DTSTAMP:20260421T185352
CREATED:20211027T181817Z
LAST-MODIFIED:20211027T181817Z
UID:6155-1653609600-1653695999@dancingpinesmontessori.com
SUMMARY:No School: Teacher Workshop Day
DESCRIPTION:
URL:https://dancingpinesmontessori.com/event/no-school-teacher-workshop-day-2/
END:VEVENT
BEGIN:VEVENT
DTSTART;TZID=America/Los_Angeles:20220429T170000
DTEND;TZID=America/Los_Angeles:20220429T210000
DTSTAMP:20260421T185352
CREATED:20211027T181701Z
LAST-MODIFIED:20211027T181701Z
UID:6152-1651251600-1651266000@dancingpinesmontessori.com
SUMMARY:Parent's Night Out: Pokémon!
DESCRIPTION:Hosted by Teacher Kaleena
URL:https://dancingpinesmontessori.com/event/parents-night-out-pokemon/
LOCATION:Dancing Pines Montessori\, 22849 172nd Ave SE\, Kent\, WA\, 98042\, United States
END:VEVENT
BEGIN:VEVENT
DTSTART;VALUE=DATE:20220411
DTEND;VALUE=DATE:20220416
DTSTAMP:20260421T185352
CREATED:20211027T181245Z
LAST-MODIFIED:20211027T181245Z
UID:6149-1649635200-1650067199@dancingpinesmontessori.com
SUMMARY:No School: Spring Break
DESCRIPTION:
URL:https://dancingpinesmontessori.com/event/no-school-spring-break/
END:VEVENT
BEGIN:VEVENT
DTSTART;VALUE=DATE:20220407
DTEND;VALUE=DATE:20220409
DTSTAMP:20260421T185352
CREATED:20211027T181106Z
LAST-MODIFIED:20211027T181106Z
UID:6147-1649289600-1649462399@dancingpinesmontessori.com
SUMMARY:No School: Parent Teacher Conferences
DESCRIPTION:
URL:https://dancingpinesmontessori.com/event/no-school-parent-teacher-conferences/
END:VEVENT
BEGIN:VEVENT
DTSTART;VALUE=DATE:20220311
DTEND;VALUE=DATE:20220312
DTSTAMP:20260421T185352
CREATED:20211027T180953Z
LAST-MODIFIED:20211027T180953Z
UID:6145-1646956800-1647043199@dancingpinesmontessori.com
SUMMARY:No School: Teacher Workshop Day
DESCRIPTION:
URL:https://dancingpinesmontessori.com/event/no-school-teacher-workshop-day/
END:VEVENT
BEGIN:VEVENT
DTSTART;VALUE=DATE:20220221
DTEND;VALUE=DATE:20220226
DTSTAMP:20260421T185352
CREATED:20211027T180801Z
LAST-MODIFIED:20211027T180801Z
UID:6143-1645401600-1645833599@dancingpinesmontessori.com
SUMMARY:No School: Mid-Winter Break
DESCRIPTION:
URL:https://dancingpinesmontessori.com/event/no-school-mid-winter-break/
END:VEVENT
BEGIN:VEVENT
DTSTART;TZID=America/Los_Angeles:20220214T090000
DTEND;TZID=America/Los_Angeles:20220214T120000
DTSTAMP:20260421T185352
CREATED:20211027T180252Z
LAST-MODIFIED:20211027T180252Z
UID:6140-1644829200-1644840000@dancingpinesmontessori.com
SUMMARY:Valentine's Day Tea
DESCRIPTION:In-school event for students only. If you would like to volunteer to help manage this event\, please email the office. \nCelebrating friendship and love\, today we will be practicing grace and courtesy during a tea party celebration in our classrooms. \nChildren are welcome to bring hand written notes and goodies to share with their friends. They will have decorated their “mailboxes” to receive these from their classmates. \nPrimary students: on the notes\, please do not address them with classmates’ names (it makes it more tricky/time consuming for the passing out process) but please do take this opportunity for your child to practice writing their own names.
URL:https://dancingpinesmontessori.com/event/valentines-day-tea/
LOCATION:Dancing Pines Montessori\, 22849 172nd Ave SE\, Kent\, WA\, 98042\, United States
CATEGORIES:In School Events
END:VEVENT
BEGIN:VEVENT
DTSTART;VALUE=DATE:20220117
DTEND;VALUE=DATE:20220118
DTSTAMP:20260421T185352
CREATED:20211027T173706Z
LAST-MODIFIED:20211027T173706Z
UID:6137-1642377600-1642463999@dancingpinesmontessori.com
SUMMARY:No School: MLK DAY
DESCRIPTION:
URL:https://dancingpinesmontessori.com/event/no-school-mlk-day/
END:VEVENT
BEGIN:VEVENT
DTSTART;VALUE=DATE:20211220
DTEND;VALUE=DATE:20220103
DTSTAMP:20260421T185352
CREATED:20211027T172643Z
LAST-MODIFIED:20211027T172643Z
UID:6134-1639958400-1641167999@dancingpinesmontessori.com
SUMMARY:No School: Winter Break
DESCRIPTION:Happy holidays!
URL:https://dancingpinesmontessori.com/event/no-school-winter-break/
END:VEVENT
BEGIN:VEVENT
DTSTART;TZID=America/Los_Angeles:20211217T110000
DTEND;TZID=America/Los_Angeles:20211217T120000
DTSTAMP:20260421T185352
CREATED:20211027T172346Z
LAST-MODIFIED:20211207T004741Z
UID:6129-1639738800-1639742400@dancingpinesmontessori.com
SUMMARY:1/2 Day & Winter Sing-a-Long
DESCRIPTION:Today is a half day\, the last day before we part for winter break and see you in 2022! \nFor the sing a long parents please arrive at 11am\, bring your own chairs\, blankets\, umbrellas if needed or ponchos\, hand warmers\, dress warm! We will be outside in the back pasture for this performance.
URL:https://dancingpinesmontessori.com/event/1-2-day-winter-sing-a-long/
LOCATION:Dancing Pines Montessori\, 22849 172nd Ave SE\, Kent\, WA\, 98042\, United States
END:VEVENT
BEGIN:VEVENT
DTSTART;TZID=America/Los_Angeles:20211210T170000
DTEND;TZID=America/Los_Angeles:20211210T210000
DTSTAMP:20260421T185352
CREATED:20211027T171112Z
LAST-MODIFIED:20211207T004349Z
UID:6126-1639155600-1639170000@dancingpinesmontessori.com
SUMMARY:Parent's Night Out
DESCRIPTION:Hosted by teachers Alex & Cheyanne\, celebrating all good things winter! \n$45 first child\, $40 second\, $35 third. \nAfter school is available for PNO from 3:30pm-5pm\, $15 extra per child. \nEvent drop off will begin at 5pm.
URL:https://dancingpinesmontessori.com/event/parents-night-out-2/
LOCATION:Dancing Pines Montessori\, 22849 172nd Ave SE\, Kent\, WA\, 98042\, United States
ORGANIZER;CN="Dancing Pines Montessori":MAILTO:info@dancingpinesmontessori.com
END:VEVENT
BEGIN:VEVENT
DTSTART;VALUE=DATE:20211124
DTEND;VALUE=DATE:20211127
DTSTAMP:20260421T185352
CREATED:20211027T170602Z
LAST-MODIFIED:20211027T170602Z
UID:6123-1637712000-1637971199@dancingpinesmontessori.com
SUMMARY:No School: Thanksgiving Break
DESCRIPTION:
URL:https://dancingpinesmontessori.com/event/no-school-thanksgiving-break/
END:VEVENT
BEGIN:VEVENT
DTSTART;VALUE=DATE:20211122
DTEND;VALUE=DATE:20211124
DTSTAMP:20260421T185352
CREATED:20211027T170013Z
LAST-MODIFIED:20211027T170013Z
UID:6120-1637539200-1637711999@dancingpinesmontessori.com
SUMMARY:Parent Teacher Conferences
DESCRIPTION:More info (including sign-ups) to come
URL:https://dancingpinesmontessori.com/event/parent-teacher-conferences/
END:VEVENT
BEGIN:VEVENT
DTSTART;VALUE=DATE:20211111
DTEND;VALUE=DATE:20211113
DTSTAMP:20260421T185352
CREATED:20211027T165553Z
LAST-MODIFIED:20211027T170358Z
UID:6118-1636588800-1636761599@dancingpinesmontessori.com
SUMMARY:No School
DESCRIPTION:Veterans Day
URL:https://dancingpinesmontessori.com/event/no-school/
END:VEVENT
BEGIN:VEVENT
DTSTART;TZID=America/Los_Angeles:20211029T170000
DTEND;TZID=America/Los_Angeles:20211029T210000
DTSTAMP:20260421T185352
CREATED:20211027T165355Z
LAST-MODIFIED:20211027T165355Z
UID:6113-1635526800-1635541200@dancingpinesmontessori.com
SUMMARY:Parent's Night Out
DESCRIPTION:Hosted by Teachers Kelly & Kaleena! \nCost: $45 first child\, $40 sibling\, $35 second sibling \n$60 if your child is staying through the end of school to the end of PNO. \nCash only \nParent’s Night Out Details \nParent’s Night Out Location
URL:https://dancingpinesmontessori.com/event/parents-night-out/
LOCATION:Dancing Pines Montessori\, 22849 172nd Ave SE\, Kent\, WA\, 98042\, United States
ORGANIZER;CN="Dancing Pines Montessori":MAILTO:info@dancingpinesmontessori.com
END:VEVENT
BEGIN:VEVENT
DTSTART;TZID=America/Los_Angeles:20211028T093000
DTEND;TZID=America/Los_Angeles:20211028T133000
DTSTAMP:20260421T185352
CREATED:20211027T164330Z
LAST-MODIFIED:20211027T164330Z
UID:6106-1635413400-1635427800@dancingpinesmontessori.com
SUMMARY:Harvest Party
DESCRIPTION:Celebrating all fun things about fall! Hay rides\, pumpkin carving with elementary\, trick or treating\, baking\, arts and crafts\, and dress up. \nSend your children in weather appropriate (and school appropriate) costumes\, coats\, and good shoes. We will still have sports this morning. \nThis is a student only event\, but volunteers are welcome. Please email office@dancingpinesmontessori.com if you’re interested in volunteering.
URL:https://dancingpinesmontessori.com/event/harvest-party/
LOCATION:Dancing Pines Montessori\, 22849 172nd Ave SE\, Kent\, WA\, 98042\, United States
CATEGORIES:In School Events
ORGANIZER;CN="Dancing Pines Montessori":MAILTO:info@dancingpinesmontessori.com
END:VEVENT
END:VCALENDAR