BEGIN:VCALENDAR
VERSION:2.0
PRODID:-// - ECPv6.15.20//NONSGML v1.0//EN
CALSCALE:GREGORIAN
METHOD:PUBLISH
X-ORIGINAL-URL:https://dancingpinesmontessori.com
X-WR-CALDESC:Events for 
REFRESH-INTERVAL;VALUE=DURATION:PT1H
X-Robots-Tag:noindex
X-PUBLISHED-TTL:PT1H
BEGIN:VTIMEZONE
TZID:America/Los_Angeles
BEGIN:DAYLIGHT
TZOFFSETFROM:-0800
TZOFFSETTO:-0700
TZNAME:PDT
DTSTART:20210314T100000
END:DAYLIGHT
BEGIN:STANDARD
TZOFFSETFROM:-0700
TZOFFSETTO:-0800
TZNAME:PST
DTSTART:20211107T090000
END:STANDARD
BEGIN:DAYLIGHT
TZOFFSETFROM:-0800
TZOFFSETTO:-0700
TZNAME:PDT
DTSTART:20220313T100000
END:DAYLIGHT
BEGIN:STANDARD
TZOFFSETFROM:-0700
TZOFFSETTO:-0800
TZNAME:PST
DTSTART:20221106T090000
END:STANDARD
BEGIN:DAYLIGHT
TZOFFSETFROM:-0800
TZOFFSETTO:-0700
TZNAME:PDT
DTSTART:20230312T100000
END:DAYLIGHT
BEGIN:STANDARD
TZOFFSETFROM:-0700
TZOFFSETTO:-0800
TZNAME:PST
DTSTART:20231105T090000
END:STANDARD
BEGIN:DAYLIGHT
TZOFFSETFROM:-0800
TZOFFSETTO:-0700
TZNAME:PDT
DTSTART:20240310T100000
END:DAYLIGHT
BEGIN:STANDARD
TZOFFSETFROM:-0700
TZOFFSETTO:-0800
TZNAME:PST
DTSTART:20241103T090000
END:STANDARD
END:VTIMEZONE
BEGIN:VEVENT
DTSTART;VALUE=DATE:20231109
DTEND;VALUE=DATE:20231111
DTSTAMP:20260421T175156
CREATED:20230621T220014Z
LAST-MODIFIED:20240723T201454Z
UID:7043-1699488000-1699660799@dancingpinesmontessori.com
SUMMARY:No School Teacher Workshop Day & Veterans Day
DESCRIPTION:No school Thursday and Friday
URL:https://dancingpinesmontessori.com/event/no-school-teacher-workshop-day-veterans-day/
CATEGORIES:DPM Calendar
END:VEVENT
BEGIN:VEVENT
DTSTART;VALUE=DATE:20231031
DTEND;VALUE=DATE:20231101
DTSTAMP:20260421T175156
CREATED:20230329T225324Z
LAST-MODIFIED:20240723T201454Z
UID:6987-1698710400-1698796799@dancingpinesmontessori.com
SUMMARY:Harvest Festival!
DESCRIPTION:Students only\, normal school schedule \nhay rides \ntreats \npumpkin carvin
URL:https://dancingpinesmontessori.com/event/harvest-festival/
CATEGORIES:DPM Calendar
END:VEVENT
BEGIN:VEVENT
DTSTART;TZID=America/Los_Angeles:20231027T160000
DTEND;TZID=America/Los_Angeles:20231027T210000
DTSTAMP:20260421T175156
CREATED:20230329T225508Z
LAST-MODIFIED:20240723T201454Z
UID:6990-1698422400-1698440400@dancingpinesmontessori.com
SUMMARY:Halloween Parent's Night Out
DESCRIPTION:PNO hosted by teacher Kelly! 4-9pm or 5-9pm \n  \nParent’s Night Out is back! Wooooo! Teacher Kelly will host the first one to kick off the year. \n\nEach year she hosts a super fun Halloween themed Parent’s Night Out. \n\nKids can come dressed up on Friday October 27th and stay after school through PNO until 9pm pick-up. Or\, be dropped back off from 5pm-9pm if you feel like your child might like a little break in between school and PNO. \n\nPNO is aimed at full-day students\, as you can imagine the late evening schedule is a lot for our littlest ones. \n  \nWe provide; dinner\, snacks\, engaging activities\, outdoor time\, and typically have a movie option for winding down. More info/themes on other PNOs to come\, stay tuned 🙂 \n  \nWe are increasing the cost slightly this year. \n\n$60 per child to stay through drop-off (3:45pm-9pm)\n$50 per child to be dropped off at 5pm and picked up at 9pm.\n$5 off each sibling
URL:https://dancingpinesmontessori.com/event/halloween-parents-night-out/
CATEGORIES:DPM Calendar
END:VEVENT
BEGIN:VEVENT
DTSTART;TZID=America/Los_Angeles:20231020T093000
DTEND;TZID=America/Los_Angeles:20231020T120000
DTSTAMP:20260421T175156
CREATED:20230621T191230Z
LAST-MODIFIED:20240723T201454Z
UID:7039-1697794200-1697803200@dancingpinesmontessori.com
SUMMARY:Meet at Thomasson Farms Pumpkin Patch Field Trip 9:15am
DESCRIPTION:We are meeting at Thomasson Farms at 9:15am on October 20th for our pumpkin patch field trip this year. Please pay for your children in advance\, parents can pay for themselves at the door. $10 per child\, $5 per parent. We will split up into 5 groups for the farm tours\, guided by Thomasson Farms. After the tours\, we will enter a reserved room in the barn for lunch. We will start right at 9:30 so please arrive early enough to get through ticketing so we can all start together. \n$10 admission for students and siblings 2YO+ \nadults $5 \nMUST submit all STUDENT payments to Kelly by October 13th to RSVP \nFull day students can be dropped back off for school after. Half day students will not have school this day. \n 
URL:https://dancingpinesmontessori.com/event/thomasson-farms-pumpkin-patch-field-trip/
CATEGORIES:DPM Calendar
END:VEVENT
BEGIN:VEVENT
DTSTART;VALUE=DATE:20231009
DTEND;VALUE=DATE:20231010
DTSTAMP:20260421T175156
CREATED:20230329T223933Z
LAST-MODIFIED:20240723T201454Z
UID:6983-1696809600-1696895999@dancingpinesmontessori.com
SUMMARY:Indigenous Peoples Day
DESCRIPTION:Celebrating Indigenous Peoples Day
URL:https://dancingpinesmontessori.com/event/indigenous-peoples-day-2/
CATEGORIES:DPM Calendar
END:VEVENT
BEGIN:VEVENT
DTSTART;TZID=America/Los_Angeles:20231006T090000
DTEND;TZID=America/Los_Angeles:20231006T120000
DTSTAMP:20260421T175156
CREATED:20230329T225126Z
LAST-MODIFIED:20240723T201454Z
UID:6985-1696582800-1696593600@dancingpinesmontessori.com
SUMMARY:Salmon Walk\, Meet at Renton Library 9am
DESCRIPTION:Parent-led field trip. Meet at Renton Library on the cedar river and watch the salmon run. \nPlease pack lunches\, perhaps a blanket\, to picnic together after our walk. The walk is outside along the river\, walking towards the playground at Jones Park\, where we stop to play. \nMeet at the entrance of the Renton Library at 9am. Parking available at Mill Avenue S or off Bronson Way by the field/park. \nHalf-day primary students will go home with parents\, full day students may be dropped off at DPM at 12:15pm for their normal pick-up time.
URL:https://dancingpinesmontessori.com/event/tentative-salmon-walk/
CATEGORIES:DPM Calendar
END:VEVENT
BEGIN:VEVENT
DTSTART;VALUE=DATE:20230929
DTEND;VALUE=DATE:20230930
DTSTAMP:20260421T175156
CREATED:20230329T223853Z
LAST-MODIFIED:20240723T201454Z
UID:6981-1695945600-1696031999@dancingpinesmontessori.com
SUMMARY:Teacher Workshop Day\, No School!
DESCRIPTION:
URL:https://dancingpinesmontessori.com/event/teacher-workshop-day-no-school/
CATEGORIES:DPM Calendar
END:VEVENT
BEGIN:VEVENT
DTSTART;TZID=America/Los_Angeles:20230915T090000
DTEND;TZID=America/Los_Angeles:20230915T100000
DTSTAMP:20260421T175156
CREATED:20230629T170125Z
LAST-MODIFIED:20230629T170125Z
UID:7056-1694768400-1694772000@dancingpinesmontessori.com
SUMMARY:Picture Day!
DESCRIPTION:9am picture day! Students who do not normally attend Fridays are welcome to join us for picture day with a parent. \n  \n 
URL:https://dancingpinesmontessori.com/event/picture-day/
END:VEVENT
BEGIN:VEVENT
DTSTART;TZID=America/Los_Angeles:20230906T085500
DTEND;TZID=America/Los_Angeles:20230906T153000
DTSTAMP:20260421T175156
CREATED:20230329T223658Z
LAST-MODIFIED:20230329T223658Z
UID:6978-1693990500-1694014200@dancingpinesmontessori.com
SUMMARY:School starts for returning primary students
DESCRIPTION:
URL:https://dancingpinesmontessori.com/event/school-starts-for-returning-primary-students/
END:VEVENT
BEGIN:VEVENT
DTSTART;TZID=America/Los_Angeles:20230905T085500
DTEND;TZID=America/Los_Angeles:20230905T153000
DTSTAMP:20260421T175156
CREATED:20230329T223527Z
LAST-MODIFIED:20230329T223527Z
UID:6976-1693904100-1693927800@dancingpinesmontessori.com
SUMMARY:First day of school!
DESCRIPTION:First day of school for new students in the primary classroom. Returning students start tomorrow! \n  \nLower elementary and Upper elementary: all students start today.
URL:https://dancingpinesmontessori.com/event/first-day-of-school/
END:VEVENT
BEGIN:VEVENT
DTSTART;TZID=America/Los_Angeles:20230831T150000
DTEND;TZID=America/Los_Angeles:20230831T170000
DTSTAMP:20260421T175156
CREATED:20230621T191413Z
LAST-MODIFIED:20230621T191413Z
UID:7041-1693494000-1693501200@dancingpinesmontessori.com
SUMMARY:DPM Orientation Day
DESCRIPTION:Come join us at Dancing Pines for a taco bar night! \nWe will socialize\, kids will play\, we will have tacos\, and talk about all the how-tos and what to expect at DPM.
URL:https://dancingpinesmontessori.com/event/dpm-orientation-day/
END:VEVENT
BEGIN:VEVENT
DTSTART;TZID=America/Los_Angeles:20230710T090000
DTEND;TZID=America/Los_Angeles:20230714T140000
DTSTAMP:20260421T175156
CREATED:20230329T222310Z
LAST-MODIFIED:20230329T222310Z
UID:6973-1688979600-1689343200@dancingpinesmontessori.com
SUMMARY:Cooking Camp!
DESCRIPTION:Teacher Kaleena is back with the popular cooking camp! Teaching your kiddos to make delicious culinary creations.
URL:https://dancingpinesmontessori.com/event/cooking-camp/
END:VEVENT
BEGIN:VEVENT
DTSTART;TZID=America/Los_Angeles:20230705T090000
DTEND;TZID=America/Los_Angeles:20230707T140000
DTSTAMP:20260421T175156
CREATED:20230329T222201Z
LAST-MODIFIED:20230329T222201Z
UID:6971-1688547600-1688738400@dancingpinesmontessori.com
SUMMARY:Spy Camp!
DESCRIPTION:Teacher Alex is running Spy camp which will include a capture the flag game\, a treasure hunt\, and making invisible ink!
URL:https://dancingpinesmontessori.com/event/spy-camp/
END:VEVENT
BEGIN:VEVENT
DTSTART;TZID=America/Los_Angeles:20230626T090000
DTEND;TZID=America/Los_Angeles:20230630T140000
DTSTAMP:20260421T175156
CREATED:20230329T222015Z
LAST-MODIFIED:20230329T222103Z
UID:6968-1687770000-1688133600@dancingpinesmontessori.com
SUMMARY:STEAM Camp!
DESCRIPTION:Teacher Kris is hosting STEAM camp and will be teaching and exploring all areas including science\, technology\, engineering\, art\, and math.
URL:https://dancingpinesmontessori.com/event/steam-camp/
END:VEVENT
BEGIN:VEVENT
DTSTART;TZID=America/Los_Angeles:20230619T090000
DTEND;TZID=America/Los_Angeles:20230623T140000
DTSTAMP:20260421T175156
CREATED:20230329T221815Z
LAST-MODIFIED:20230329T221815Z
UID:6965-1687165200-1687528800@dancingpinesmontessori.com
SUMMARY:Music Camp!
DESCRIPTION:1st summer camp of the season\, Music camp with teachers Amanda and Kelly
URL:https://dancingpinesmontessori.com/event/music-camp/
END:VEVENT
BEGIN:VEVENT
DTSTART;VALUE=DATE:20230616
DTEND;VALUE=DATE:20230617
DTSTAMP:20260421T175156
CREATED:20230313T210545Z
LAST-MODIFIED:20230517T181637Z
UID:6948-1686873600-1686959999@dancingpinesmontessori.com
SUMMARY:11:45am pick up for last day of school & potluck
DESCRIPTION:All students will be released at 11:45. We will have a potluck at Covington Park at 12pm for the end of year potluck!
URL:https://dancingpinesmontessori.com/event/1-2-day-last-day-of-school-2/
END:VEVENT
BEGIN:VEVENT
DTSTART;TZID=America/Los_Angeles:20230615T090000
DTEND;TZID=America/Los_Angeles:20230615T150000
DTSTAMP:20260421T175156
CREATED:20230517T182010Z
LAST-MODIFIED:20230517T182126Z
UID:7020-1686819600-1686841200@dancingpinesmontessori.com
SUMMARY:Movie Day
DESCRIPTION:We will be watching a Disney movie with snacks and goodies. Come dressed in PJs and bring your favorite stuffie along!
URL:https://dancingpinesmontessori.com/event/movie-day/
END:VEVENT
BEGIN:VEVENT
DTSTART;TZID=America/Los_Angeles:20230614T090000
DTEND;TZID=America/Los_Angeles:20230614T150000
DTSTAMP:20260421T175156
CREATED:20230517T181844Z
LAST-MODIFIED:20230517T181928Z
UID:7018-1686733200-1686754800@dancingpinesmontessori.com
SUMMARY:Field Day!
DESCRIPTION:Send your child with an extra change of clothes in their backpacks\, sunscreen (labeled) and of course their water bottles.
URL:https://dancingpinesmontessori.com/event/field-day-2/
END:VEVENT
BEGIN:VEVENT
DTSTART;TZID=America/Los_Angeles:20230612T090000
DTEND;TZID=America/Los_Angeles:20230612T150000
DTSTAMP:20260421T175156
CREATED:20230517T181736Z
LAST-MODIFIED:20230517T182054Z
UID:7016-1686560400-1686582000@dancingpinesmontessori.com
SUMMARY:Tie Dye Day
DESCRIPTION:Send your student with a white t-shirt today to participate in our annual tie-dye day!
URL:https://dancingpinesmontessori.com/event/tie-dye-day/
END:VEVENT
BEGIN:VEVENT
DTSTART;VALUE=DATE:20230609
DTEND;VALUE=DATE:20230610
DTSTAMP:20260421T175156
CREATED:20230313T210330Z
LAST-MODIFIED:20230517T192850Z
UID:6946-1686268800-1686355199@dancingpinesmontessori.com
SUMMARY:Spring Performance
DESCRIPTION:Starts at 2pm at Dancing Pines. We will have parents come at 1:45pm\, parking is limited so please aim to find street parking\, carpool\, or drive on back to the pasture to park. Please bring your lawn chairs for seating. Primary students will be singing a song for the performance. Stick around for ice cream and play time after! \nPrimary half day students: \nIf your child is picked up at noon\, and you would like your child to participate in the song performance and watch the play\, please bring them back with you at 1:45pm. \nIf your child is normally picked up at 1pm and attend on Fridays: you are welcome to join recess at 1pm and stick around with your child.
URL:https://dancingpinesmontessori.com/event/spring-performance/
END:VEVENT
BEGIN:VEVENT
DTSTART;TZID=America/Los_Angeles:20230527T130000
DTEND;TZID=America/Los_Angeles:20230527T170000
DTSTAMP:20260421T175156
CREATED:20230324T175417Z
LAST-MODIFIED:20230324T175417Z
UID:6955-1685192400-1685206800@dancingpinesmontessori.com
SUMMARY:DPM at the Mariners!
DESCRIPTION:Reserve your tickets ASAP!
URL:https://dancingpinesmontessori.com/event/dpm-at-the-mariners/
END:VEVENT
BEGIN:VEVENT
DTSTART;VALUE=DATE:20230526
DTEND;VALUE=DATE:20230530
DTSTAMP:20260421T175156
CREATED:20230313T210207Z
LAST-MODIFIED:20230313T210222Z
UID:6943-1685059200-1685404799@dancingpinesmontessori.com
SUMMARY:No school: Memorial Day Long Weekend
DESCRIPTION:No school 5/26 and 5/29 in observance of Memorial Day. \nHappy 4-day weekend!
URL:https://dancingpinesmontessori.com/event/memorial-day-long-weekend/
END:VEVENT
BEGIN:VEVENT
DTSTART;TZID=America/Los_Angeles:20230525T140000
DTEND;TZID=America/Los_Angeles:20230525T160000
DTSTAMP:20260421T175156
CREATED:20230313T210030Z
LAST-MODIFIED:20230517T183244Z
UID:6941-1685023200-1685030400@dancingpinesmontessori.com
SUMMARY:DPM Carnival
DESCRIPTION:School Carnival! \nParents\, please arrive between 1:45 and 2pm\, parking is limited so please carpool\, find street parking\, do not block other cars or entrances please. The driveways will be occupied with carnival stations. We will open up the back pasture for overflow parking. Cascadia Pizza food truck and Topsy Turvy Bounce House Co will be here! Happy carnival day!
URL:https://dancingpinesmontessori.com/event/dpm-carnival/
END:VEVENT
BEGIN:VEVENT
DTSTART;TZID=America/Los_Angeles:20230520T090000
DTEND;TZID=America/Los_Angeles:20230520T130000
DTSTAMP:20260421T175156
CREATED:20230517T181431Z
LAST-MODIFIED:20230517T181452Z
UID:7012-1684573200-1684587600@dancingpinesmontessori.com
SUMMARY:Clean-up Fix-up Day!
DESCRIPTION:Arrive in the morning around 9am to pitch in some elbow grease and help beautify the school. We will be in the back pasture burning piles of weeds/blackberries/branches\, pruning\, trimming\, cutting\, collecting rocks out of the grassy areas\, scrubbing fences\, pressure washing\, etc. Join us for pizza after!
URL:https://dancingpinesmontessori.com/event/clean-up-fix-up-day/
END:VEVENT
BEGIN:VEVENT
DTSTART;VALUE=DATE:20230410
DTEND;VALUE=DATE:20230415
DTSTAMP:20260421T175156
CREATED:20230313T203205Z
LAST-MODIFIED:20230313T203205Z
UID:6939-1681084800-1681516799@dancingpinesmontessori.com
SUMMARY:School closed for Spring Break!
DESCRIPTION:Enjoy! See you back on April 17th\, normal schedule.
URL:https://dancingpinesmontessori.com/event/school-closed-for-spring-break/
END:VEVENT
BEGIN:VEVENT
DTSTART;VALUE=DATE:20230406
DTEND;VALUE=DATE:20230408
DTSTAMP:20260421T175156
CREATED:20230313T203116Z
LAST-MODIFIED:20230313T203116Z
UID:6937-1680739200-1680911999@dancingpinesmontessori.com
SUMMARY:Parent-Teacher Conferences
DESCRIPTION:No school for students on April 6th and 7th. Parent teacher conferences. Please sign up with your child’s teacher or teachers using the link below. Thank you! \n 
URL:https://dancingpinesmontessori.com/event/parent-teacher-conferences-3/
END:VEVENT
BEGIN:VEVENT
DTSTART;VALUE=DATE:20230405
DTEND;VALUE=DATE:20230406
DTSTAMP:20260421T175156
CREATED:20230313T202903Z
LAST-MODIFIED:20230313T202903Z
UID:6934-1680652800-1680739199@dancingpinesmontessori.com
SUMMARY:Egg Hunt @ DPM!
DESCRIPTION:Student only event\, normal school day. \n  \nDPM will have an egg hunt for all students. Expect children to come home with loads of treats. \n  \nThank you to all the families who have signed up to donate stuffed eggs for students! We appreciate you.
URL:https://dancingpinesmontessori.com/event/egg-hunt-dpm/
END:VEVENT
BEGIN:VEVENT
DTSTART;VALUE=DATE:20230316
DTEND;VALUE=DATE:20230318
DTSTAMP:20260421T175156
CREATED:20230313T202639Z
LAST-MODIFIED:20230313T202639Z
UID:6931-1678924800-1679097599@dancingpinesmontessori.com
SUMMARY:No School: Teachers' professional development days
DESCRIPTION:School will be closed for students and families on March 16th & 17th. teachers will be on campus for trainings.
URL:https://dancingpinesmontessori.com/event/no-school-teachers-professional-development-days/
END:VEVENT
BEGIN:VEVENT
DTSTART;VALUE=DATE:20221219
DTEND;VALUE=DATE:20230104
DTSTAMP:20260421T175156
CREATED:20221118T214313Z
LAST-MODIFIED:20221118T214333Z
UID:6756-1671408000-1672790399@dancingpinesmontessori.com
SUMMARY:Winter Break!
DESCRIPTION:School is closed December 19th-January 3rd. \n  \nReturn to school on January 4th\, normal hours. \n  \nHappy holidays!
URL:https://dancingpinesmontessori.com/event/winter-break/
END:VEVENT
BEGIN:VEVENT
DTSTART;TZID=America/Los_Angeles:20221216T140000
DTEND;TZID=America/Los_Angeles:20221216T150000
DTSTAMP:20260421T175156
CREATED:20221118T214119Z
LAST-MODIFIED:20221208T000259Z
UID:6754-1671199200-1671202800@dancingpinesmontessori.com
SUMMARY:Virtual Winter Performance
DESCRIPTION:Enjoy winter themed songs sung by your special sweeties on Dec. 16th\, videos of the “concert” will be emailed and posted on the Families FB page. This event is a student only event\, normal hours for school\, normal drop-off and pick-up times.
URL:https://dancingpinesmontessori.com/event/winter-performance/
END:VEVENT
END:VCALENDAR