BEGIN:VCALENDAR
VERSION:2.0
PRODID:-// - ECPv6.15.20//NONSGML v1.0//EN
CALSCALE:GREGORIAN
METHOD:PUBLISH
X-ORIGINAL-URL:https://dancingpinesmontessori.com
X-WR-CALDESC:Events for 
REFRESH-INTERVAL;VALUE=DURATION:PT1H
X-Robots-Tag:noindex
X-PUBLISHED-TTL:PT1H
BEGIN:VTIMEZONE
TZID:America/Los_Angeles
BEGIN:DAYLIGHT
TZOFFSETFROM:-0800
TZOFFSETTO:-0700
TZNAME:PDT
DTSTART:20220313T100000
END:DAYLIGHT
BEGIN:STANDARD
TZOFFSETFROM:-0700
TZOFFSETTO:-0800
TZNAME:PST
DTSTART:20221106T090000
END:STANDARD
BEGIN:DAYLIGHT
TZOFFSETFROM:-0800
TZOFFSETTO:-0700
TZNAME:PDT
DTSTART:20230312T100000
END:DAYLIGHT
BEGIN:STANDARD
TZOFFSETFROM:-0700
TZOFFSETTO:-0800
TZNAME:PST
DTSTART:20231105T090000
END:STANDARD
BEGIN:DAYLIGHT
TZOFFSETFROM:-0800
TZOFFSETTO:-0700
TZNAME:PDT
DTSTART:20240310T100000
END:DAYLIGHT
BEGIN:STANDARD
TZOFFSETFROM:-0700
TZOFFSETTO:-0800
TZNAME:PST
DTSTART:20241103T090000
END:STANDARD
BEGIN:DAYLIGHT
TZOFFSETFROM:-0800
TZOFFSETTO:-0700
TZNAME:PDT
DTSTART:20250309T100000
END:DAYLIGHT
BEGIN:STANDARD
TZOFFSETFROM:-0700
TZOFFSETTO:-0800
TZNAME:PST
DTSTART:20251102T090000
END:STANDARD
END:VTIMEZONE
BEGIN:VEVENT
DTSTART;VALUE=DATE:20241011
DTEND;VALUE=DATE:20241012
DTSTAMP:20260421T150555
CREATED:20240723T203250Z
LAST-MODIFIED:20240723T203303Z
UID:7598-1728604800-1728691199@dancingpinesmontessori.com
SUMMARY:Field Trip! Issaquah Salmon Hatchery
DESCRIPTION:DPM Closed: Meeting at the Issaquah Salmon Hatchery at 9:45am: Keep the Salmon Coming Home (issaquahfish.org) \n1st group will tour at 10am while the other group will visit Jakob Two Trees\, https://www.issaquahwa.gov/3426/Jakob-Two-Trees-Issaquahs-Troll  \nfollowed by snack/lunch in Gibson Park \n2nd group tour starts at 12pm\, 1st group will then head to Gibson Park for lunch\, and then visit Jakob Two Trees.
URL:https://dancingpinesmontessori.com/event/field-trip-issaquah-salmon-hatchery/
CATEGORIES:DPM Calendar
END:VEVENT
BEGIN:VEVENT
DTSTART;VALUE=DATE:20240927
DTEND;VALUE=DATE:20240928
DTSTAMP:20260421T150555
CREATED:20240723T202836Z
LAST-MODIFIED:20240723T202836Z
UID:7595-1727395200-1727481599@dancingpinesmontessori.com
SUMMARY:No School\, Teacher Workshop Day
DESCRIPTION:Teachers on campus\, no students on campus.
URL:https://dancingpinesmontessori.com/event/no-school-teacher-workshop-day-3/
CATEGORIES:DPM Calendar
END:VEVENT
BEGIN:VEVENT
DTSTART;VALUE=DATE:20240904
DTEND;VALUE=DATE:20240905
DTSTAMP:20260421T150555
CREATED:20240723T202726Z
LAST-MODIFIED:20240723T202726Z
UID:7593-1725408000-1725494399@dancingpinesmontessori.com
SUMMARY:Primary: 1st day for all returning students
DESCRIPTION:Normal schedule for everyone!
URL:https://dancingpinesmontessori.com/event/primary-1st-day-for-all-returning-students/
CATEGORIES:DPM Calendar
END:VEVENT
BEGIN:VEVENT
DTSTART;VALUE=DATE:20240903
DTEND;VALUE=DATE:20240904
DTSTAMP:20260421T150555
CREATED:20240723T202433Z
LAST-MODIFIED:20240723T202447Z
UID:7587-1725321600-1725407999@dancingpinesmontessori.com
SUMMARY:Half Day! 12pm pick up
DESCRIPTION:First day of school for NEW Primary students (ages 3-6) and all Lower and Upper Elementary students. 9am-12pm
URL:https://dancingpinesmontessori.com/event/half-day-12pm-pick-up/
CATEGORIES:DPM Calendar
END:VEVENT
BEGIN:VEVENT
DTSTART;TZID=America/Los_Angeles:20240828T140000
DTEND;TZID=America/Los_Angeles:20240828T160000
DTSTAMP:20260421T150555
CREATED:20240723T202610Z
LAST-MODIFIED:20240723T202610Z
UID:7590-1724853600-1724860800@dancingpinesmontessori.com
SUMMARY:Orientation Day
DESCRIPTION:2pm new families and students\, 3pm returning families and students. Ice cream and popsicles to follow!
URL:https://dancingpinesmontessori.com/event/orientation-day/
CATEGORIES:DPM Calendar
END:VEVENT
BEGIN:VEVENT
DTSTART;TZID=America/Los_Angeles:20240614T090000
DTEND;TZID=America/Los_Angeles:20240614T120000
DTSTAMP:20260421T150555
CREATED:20240202T223716Z
LAST-MODIFIED:20240723T201454Z
UID:7438-1718355600-1718366400@dancingpinesmontessori.com
SUMMARY:Last day of school\, HALF DAY
DESCRIPTION:Potluck is at 12 at Covington Park
URL:https://dancingpinesmontessori.com/event/last-day-of-school-half-day/
CATEGORIES:DPM Calendar
END:VEVENT
BEGIN:VEVENT
DTSTART;VALUE=DATE:20240524
DTEND;VALUE=DATE:20240528
DTSTAMP:20260421T150555
CREATED:20240202T223624Z
LAST-MODIFIED:20240723T201454Z
UID:7436-1716508800-1716854399@dancingpinesmontessori.com
SUMMARY:No School: Memorial Day Break
DESCRIPTION:Enjoy the long weekend\, Happy Memorial Day!
URL:https://dancingpinesmontessori.com/event/no-school-memorial-day-break/
CATEGORIES:DPM Calendar
END:VEVENT
BEGIN:VEVENT
DTSTART;TZID=America/Los_Angeles:20240523T140000
DTEND;TZID=America/Los_Angeles:20240523T160000
DTSTAMP:20260421T150555
CREATED:20240202T223527Z
LAST-MODIFIED:20240723T201454Z
UID:7434-1716472800-1716480000@dancingpinesmontessori.com
SUMMARY:DPM Carnival
DESCRIPTION:
URL:https://dancingpinesmontessori.com/event/dpm-carnival-2/
CATEGORIES:DPM Calendar
END:VEVENT
BEGIN:VEVENT
DTSTART;VALUE=DATE:20240408
DTEND;VALUE=DATE:20240413
DTSTAMP:20260421T150555
CREATED:20240202T223020Z
LAST-MODIFIED:20240723T201454Z
UID:7432-1712534400-1712966399@dancingpinesmontessori.com
SUMMARY:Spring Break! No School
DESCRIPTION:No School this week\, enjoy your Spring Break!
URL:https://dancingpinesmontessori.com/event/spring-break-no-school/
CATEGORIES:DPM Calendar
END:VEVENT
BEGIN:VEVENT
DTSTART;VALUE=DATE:20240404
DTEND;VALUE=DATE:20240406
DTSTAMP:20260421T150555
CREATED:20240202T222828Z
LAST-MODIFIED:20240723T201454Z
UID:7430-1712188800-1712361599@dancingpinesmontessori.com
SUMMARY:No School: Parent/Teacher Conferences
DESCRIPTION:Spring Conferences!
URL:https://dancingpinesmontessori.com/event/no-school-parent-teacher-conferences-2/
CATEGORIES:DPM Calendar
END:VEVENT
BEGIN:VEVENT
DTSTART;VALUE=DATE:20240314
DTEND;VALUE=DATE:20240316
DTSTAMP:20260421T150555
CREATED:20230920T232052Z
LAST-MODIFIED:20240723T201454Z
UID:7207-1710374400-1710547199@dancingpinesmontessori.com
SUMMARY:Spring Workshops and Training\, No School!
DESCRIPTION:Teacher workshop day and a training session to better serve our students! No School for students on these days.
URL:https://dancingpinesmontessori.com/event/spring-workshops-and-training-no-school/
CATEGORIES:DPM Calendar
END:VEVENT
BEGIN:VEVENT
DTSTART;VALUE=DATE:20240219
DTEND;VALUE=DATE:20240224
DTSTAMP:20260421T150555
CREATED:20230920T231942Z
LAST-MODIFIED:20240723T201454Z
UID:7205-1708300800-1708732799@dancingpinesmontessori.com
SUMMARY:Presidents Week Break! No School
DESCRIPTION:Happy mid-winter break everyone!
URL:https://dancingpinesmontessori.com/event/presidents-week-break-no-school/
CATEGORIES:DPM Calendar
END:VEVENT
BEGIN:VEVENT
DTSTART;TZID=America/Los_Angeles:20240214T080000
DTEND;TZID=America/Los_Angeles:20240214T170000
DTSTAMP:20260421T150555
CREATED:20230920T231732Z
LAST-MODIFIED:20240723T201454Z
UID:7202-1707897600-1707930000@dancingpinesmontessori.com
SUMMARY:Valentine's Day Tea!
DESCRIPTION:Today we celebrate love\, courtesy\, and friendship. Parents\, we happily accept special healthy treats to share for this wonderful day. Finger foods\, sandwiches cut up into quarters\, fruit trays\, etc. The students serve each other tea\, juice\, and small plates. They care for each other and celebrate each other on this special day.
URL:https://dancingpinesmontessori.com/event/valentines-day-tea-2/
CATEGORIES:DPM Calendar
END:VEVENT
BEGIN:VEVENT
DTSTART;VALUE=DATE:20240115
DTEND;VALUE=DATE:20240116
DTSTAMP:20260421T150555
CREATED:20230920T231401Z
LAST-MODIFIED:20240723T201454Z
UID:7198-1705276800-1705363199@dancingpinesmontessori.com
SUMMARY:MLK Day! No School
DESCRIPTION:
URL:https://dancingpinesmontessori.com/event/mlk-day-no-school/
CATEGORIES:DPM Calendar
END:VEVENT
BEGIN:VEVENT
DTSTART;VALUE=DATE:20231218
DTEND;VALUE=DATE:20240103
DTSTAMP:20260421T150555
CREATED:20230920T231524Z
LAST-MODIFIED:20240723T201454Z
UID:7200-1702857600-1704239999@dancingpinesmontessori.com
SUMMARY:Winter Break\, NO SCHOOL!
DESCRIPTION:Happy winter vacation everyone! We will be back on normal hours on January 3rd.
URL:https://dancingpinesmontessori.com/event/winter-break-no-school/
CATEGORIES:DPM Calendar
END:VEVENT
BEGIN:VEVENT
DTSTART;VALUE=DATE:20231215
DTEND;VALUE=DATE:20231216
DTSTAMP:20260421T150555
CREATED:20230621T220348Z
LAST-MODIFIED:20240723T201454Z
UID:7049-1702598400-1702684799@dancingpinesmontessori.com
SUMMARY:Winter Fest\, normal day
DESCRIPTION:A fun-filled day for students to celebrate the upcoming holidays.
URL:https://dancingpinesmontessori.com/event/winter-fest-normal-day/
CATEGORIES:DPM Calendar
END:VEVENT
BEGIN:VEVENT
DTSTART;VALUE=DATE:20231122
DTEND;VALUE=DATE:20231125
DTSTAMP:20260421T150555
CREATED:20230621T220237Z
LAST-MODIFIED:20240723T201454Z
UID:7047-1700611200-1700870399@dancingpinesmontessori.com
SUMMARY:Thanksgiving Break
DESCRIPTION:No School for students
URL:https://dancingpinesmontessori.com/event/thanksgiving-break-2/
CATEGORIES:DPM Calendar
END:VEVENT
BEGIN:VEVENT
DTSTART;VALUE=DATE:20231120
DTEND;VALUE=DATE:20231122
DTSTAMP:20260421T150555
CREATED:20230621T220124Z
LAST-MODIFIED:20240723T201454Z
UID:7045-1700438400-1700611199@dancingpinesmontessori.com
SUMMARY:Parent Teacher Conferences
DESCRIPTION:Parents\, please sign up for conferences with your child’s teacher by using Sign Up Genius. No School for students Monday through Friday this week.
URL:https://dancingpinesmontessori.com/event/parent-teacher-conferences-4/
CATEGORIES:DPM Calendar
END:VEVENT
BEGIN:VEVENT
DTSTART;VALUE=DATE:20231109
DTEND;VALUE=DATE:20231111
DTSTAMP:20260421T150555
CREATED:20230621T220014Z
LAST-MODIFIED:20240723T201454Z
UID:7043-1699488000-1699660799@dancingpinesmontessori.com
SUMMARY:No School Teacher Workshop Day & Veterans Day
DESCRIPTION:No school Thursday and Friday
URL:https://dancingpinesmontessori.com/event/no-school-teacher-workshop-day-veterans-day/
CATEGORIES:DPM Calendar
END:VEVENT
BEGIN:VEVENT
DTSTART;VALUE=DATE:20231031
DTEND;VALUE=DATE:20231101
DTSTAMP:20260421T150555
CREATED:20230329T225324Z
LAST-MODIFIED:20240723T201454Z
UID:6987-1698710400-1698796799@dancingpinesmontessori.com
SUMMARY:Harvest Festival!
DESCRIPTION:Students only\, normal school schedule \nhay rides \ntreats \npumpkin carvin
URL:https://dancingpinesmontessori.com/event/harvest-festival/
CATEGORIES:DPM Calendar
END:VEVENT
BEGIN:VEVENT
DTSTART;TZID=America/Los_Angeles:20231027T160000
DTEND;TZID=America/Los_Angeles:20231027T210000
DTSTAMP:20260421T150555
CREATED:20230329T225508Z
LAST-MODIFIED:20240723T201454Z
UID:6990-1698422400-1698440400@dancingpinesmontessori.com
SUMMARY:Halloween Parent's Night Out
DESCRIPTION:PNO hosted by teacher Kelly! 4-9pm or 5-9pm \n  \nParent’s Night Out is back! Wooooo! Teacher Kelly will host the first one to kick off the year. \n\nEach year she hosts a super fun Halloween themed Parent’s Night Out. \n\nKids can come dressed up on Friday October 27th and stay after school through PNO until 9pm pick-up. Or\, be dropped back off from 5pm-9pm if you feel like your child might like a little break in between school and PNO. \n\nPNO is aimed at full-day students\, as you can imagine the late evening schedule is a lot for our littlest ones. \n  \nWe provide; dinner\, snacks\, engaging activities\, outdoor time\, and typically have a movie option for winding down. More info/themes on other PNOs to come\, stay tuned 🙂 \n  \nWe are increasing the cost slightly this year. \n\n$60 per child to stay through drop-off (3:45pm-9pm)\n$50 per child to be dropped off at 5pm and picked up at 9pm.\n$5 off each sibling
URL:https://dancingpinesmontessori.com/event/halloween-parents-night-out/
CATEGORIES:DPM Calendar
END:VEVENT
BEGIN:VEVENT
DTSTART;TZID=America/Los_Angeles:20231020T093000
DTEND;TZID=America/Los_Angeles:20231020T120000
DTSTAMP:20260421T150555
CREATED:20230621T191230Z
LAST-MODIFIED:20240723T201454Z
UID:7039-1697794200-1697803200@dancingpinesmontessori.com
SUMMARY:Meet at Thomasson Farms Pumpkin Patch Field Trip 9:15am
DESCRIPTION:We are meeting at Thomasson Farms at 9:15am on October 20th for our pumpkin patch field trip this year. Please pay for your children in advance\, parents can pay for themselves at the door. $10 per child\, $5 per parent. We will split up into 5 groups for the farm tours\, guided by Thomasson Farms. After the tours\, we will enter a reserved room in the barn for lunch. We will start right at 9:30 so please arrive early enough to get through ticketing so we can all start together. \n$10 admission for students and siblings 2YO+ \nadults $5 \nMUST submit all STUDENT payments to Kelly by October 13th to RSVP \nFull day students can be dropped back off for school after. Half day students will not have school this day. \n 
URL:https://dancingpinesmontessori.com/event/thomasson-farms-pumpkin-patch-field-trip/
CATEGORIES:DPM Calendar
END:VEVENT
BEGIN:VEVENT
DTSTART;VALUE=DATE:20231009
DTEND;VALUE=DATE:20231010
DTSTAMP:20260421T150555
CREATED:20230329T223933Z
LAST-MODIFIED:20240723T201454Z
UID:6983-1696809600-1696895999@dancingpinesmontessori.com
SUMMARY:Indigenous Peoples Day
DESCRIPTION:Celebrating Indigenous Peoples Day
URL:https://dancingpinesmontessori.com/event/indigenous-peoples-day-2/
CATEGORIES:DPM Calendar
END:VEVENT
BEGIN:VEVENT
DTSTART;TZID=America/Los_Angeles:20231006T090000
DTEND;TZID=America/Los_Angeles:20231006T120000
DTSTAMP:20260421T150555
CREATED:20230329T225126Z
LAST-MODIFIED:20240723T201454Z
UID:6985-1696582800-1696593600@dancingpinesmontessori.com
SUMMARY:Salmon Walk\, Meet at Renton Library 9am
DESCRIPTION:Parent-led field trip. Meet at Renton Library on the cedar river and watch the salmon run. \nPlease pack lunches\, perhaps a blanket\, to picnic together after our walk. The walk is outside along the river\, walking towards the playground at Jones Park\, where we stop to play. \nMeet at the entrance of the Renton Library at 9am. Parking available at Mill Avenue S or off Bronson Way by the field/park. \nHalf-day primary students will go home with parents\, full day students may be dropped off at DPM at 12:15pm for their normal pick-up time.
URL:https://dancingpinesmontessori.com/event/tentative-salmon-walk/
CATEGORIES:DPM Calendar
END:VEVENT
BEGIN:VEVENT
DTSTART;VALUE=DATE:20230929
DTEND;VALUE=DATE:20230930
DTSTAMP:20260421T150555
CREATED:20230329T223853Z
LAST-MODIFIED:20240723T201454Z
UID:6981-1695945600-1696031999@dancingpinesmontessori.com
SUMMARY:Teacher Workshop Day\, No School!
DESCRIPTION:
URL:https://dancingpinesmontessori.com/event/teacher-workshop-day-no-school/
CATEGORIES:DPM Calendar
END:VEVENT
BEGIN:VEVENT
DTSTART;TZID=America/Los_Angeles:20230915T090000
DTEND;TZID=America/Los_Angeles:20230915T100000
DTSTAMP:20260421T150555
CREATED:20230629T170125Z
LAST-MODIFIED:20230629T170125Z
UID:7056-1694768400-1694772000@dancingpinesmontessori.com
SUMMARY:Picture Day!
DESCRIPTION:9am picture day! Students who do not normally attend Fridays are welcome to join us for picture day with a parent. \n  \n 
URL:https://dancingpinesmontessori.com/event/picture-day/
END:VEVENT
BEGIN:VEVENT
DTSTART;TZID=America/Los_Angeles:20230906T085500
DTEND;TZID=America/Los_Angeles:20230906T153000
DTSTAMP:20260421T150555
CREATED:20230329T223658Z
LAST-MODIFIED:20230329T223658Z
UID:6978-1693990500-1694014200@dancingpinesmontessori.com
SUMMARY:School starts for returning primary students
DESCRIPTION:
URL:https://dancingpinesmontessori.com/event/school-starts-for-returning-primary-students/
END:VEVENT
BEGIN:VEVENT
DTSTART;TZID=America/Los_Angeles:20230905T085500
DTEND;TZID=America/Los_Angeles:20230905T153000
DTSTAMP:20260421T150555
CREATED:20230329T223527Z
LAST-MODIFIED:20230329T223527Z
UID:6976-1693904100-1693927800@dancingpinesmontessori.com
SUMMARY:First day of school!
DESCRIPTION:First day of school for new students in the primary classroom. Returning students start tomorrow! \n  \nLower elementary and Upper elementary: all students start today.
URL:https://dancingpinesmontessori.com/event/first-day-of-school/
END:VEVENT
BEGIN:VEVENT
DTSTART;TZID=America/Los_Angeles:20230831T150000
DTEND;TZID=America/Los_Angeles:20230831T170000
DTSTAMP:20260421T150555
CREATED:20230621T191413Z
LAST-MODIFIED:20230621T191413Z
UID:7041-1693494000-1693501200@dancingpinesmontessori.com
SUMMARY:DPM Orientation Day
DESCRIPTION:Come join us at Dancing Pines for a taco bar night! \nWe will socialize\, kids will play\, we will have tacos\, and talk about all the how-tos and what to expect at DPM.
URL:https://dancingpinesmontessori.com/event/dpm-orientation-day/
END:VEVENT
BEGIN:VEVENT
DTSTART;TZID=America/Los_Angeles:20230710T090000
DTEND;TZID=America/Los_Angeles:20230714T140000
DTSTAMP:20260421T150555
CREATED:20230329T222310Z
LAST-MODIFIED:20230329T222310Z
UID:6973-1688979600-1689343200@dancingpinesmontessori.com
SUMMARY:Cooking Camp!
DESCRIPTION:Teacher Kaleena is back with the popular cooking camp! Teaching your kiddos to make delicious culinary creations.
URL:https://dancingpinesmontessori.com/event/cooking-camp/
END:VEVENT
END:VCALENDAR