BEGIN:VCALENDAR
VERSION:2.0
PRODID:-// - ECPv6.15.20//NONSGML v1.0//EN
CALSCALE:GREGORIAN
METHOD:PUBLISH
X-ORIGINAL-URL:https://dancingpinesmontessori.com
X-WR-CALDESC:Events for 
REFRESH-INTERVAL;VALUE=DURATION:PT1H
X-Robots-Tag:noindex
X-PUBLISHED-TTL:PT1H
BEGIN:VTIMEZONE
TZID:America/Los_Angeles
BEGIN:DAYLIGHT
TZOFFSETFROM:-0800
TZOFFSETTO:-0700
TZNAME:PDT
DTSTART:20230312T100000
END:DAYLIGHT
BEGIN:STANDARD
TZOFFSETFROM:-0700
TZOFFSETTO:-0800
TZNAME:PST
DTSTART:20231105T090000
END:STANDARD
BEGIN:DAYLIGHT
TZOFFSETFROM:-0800
TZOFFSETTO:-0700
TZNAME:PDT
DTSTART:20240310T100000
END:DAYLIGHT
BEGIN:STANDARD
TZOFFSETFROM:-0700
TZOFFSETTO:-0800
TZNAME:PST
DTSTART:20241103T090000
END:STANDARD
BEGIN:DAYLIGHT
TZOFFSETFROM:-0800
TZOFFSETTO:-0700
TZNAME:PDT
DTSTART:20250309T100000
END:DAYLIGHT
BEGIN:STANDARD
TZOFFSETFROM:-0700
TZOFFSETTO:-0800
TZNAME:PST
DTSTART:20251102T090000
END:STANDARD
BEGIN:DAYLIGHT
TZOFFSETFROM:-0800
TZOFFSETTO:-0700
TZNAME:PDT
DTSTART:20260308T100000
END:DAYLIGHT
BEGIN:STANDARD
TZOFFSETFROM:-0700
TZOFFSETTO:-0800
TZNAME:PST
DTSTART:20261101T090000
END:STANDARD
BEGIN:DAYLIGHT
TZOFFSETFROM:-0800
TZOFFSETTO:-0700
TZNAME:PDT
DTSTART:20270314T100000
END:DAYLIGHT
BEGIN:STANDARD
TZOFFSETFROM:-0700
TZOFFSETTO:-0800
TZNAME:PST
DTSTART:20271107T090000
END:STANDARD
END:VTIMEZONE
BEGIN:VEVENT
DTSTART;VALUE=DATE:20260522
DTEND;VALUE=DATE:20260526
DTSTAMP:20260421T141927
CREATED:20250912T224650Z
LAST-MODIFIED:20250912T224650Z
UID:7837-1779408000-1779753599@dancingpinesmontessori.com
SUMMARY:Memorial Day Break!
DESCRIPTION:The 22nd is a possible make up day for weather closures. We are off for Memorial Day on May 25th.
URL:https://dancingpinesmontessori.com/event/memorial-day-break/
CATEGORIES:DPM Calendar
END:VEVENT
BEGIN:VEVENT
DTSTART;TZID=America/Los_Angeles:20260521T140000
DTEND;TZID=America/Los_Angeles:20260521T160000
DTSTAMP:20260421T141927
CREATED:20250912T224431Z
LAST-MODIFIED:20250912T224431Z
UID:7835-1779372000-1779379200@dancingpinesmontessori.com
SUMMARY:School Carnival!
DESCRIPTION:
URL:https://dancingpinesmontessori.com/event/school-carnival/
CATEGORIES:DPM Calendar
END:VEVENT
BEGIN:VEVENT
DTSTART;VALUE=DATE:20260406
DTEND;VALUE=DATE:20260411
DTSTAMP:20260421T141927
CREATED:20250912T224844Z
LAST-MODIFIED:20250912T224844Z
UID:7841-1775433600-1775865599@dancingpinesmontessori.com
SUMMARY:No School this week\, Spring Break!
DESCRIPTION:
URL:https://dancingpinesmontessori.com/event/no-school-this-week-spring-break/
CATEGORIES:DPM Calendar
END:VEVENT
BEGIN:VEVENT
DTSTART;VALUE=DATE:20260402
DTEND;VALUE=DATE:20260404
DTSTAMP:20260421T141927
CREATED:20250912T224311Z
LAST-MODIFIED:20250912T224311Z
UID:7833-1775088000-1775260799@dancingpinesmontessori.com
SUMMARY:No School\, parent teacher conferences
DESCRIPTION:Sign up genius link to sign up for conference slots will be posted here as we get closer to the date.
URL:https://dancingpinesmontessori.com/event/no-school-parent-teacher-conferences-3/
CATEGORIES:DPM Calendar
END:VEVENT
BEGIN:VEVENT
DTSTART;VALUE=DATE:20260312
DTEND;VALUE=DATE:20260314
DTSTAMP:20260421T141927
CREATED:20250912T223353Z
LAST-MODIFIED:20250912T223353Z
UID:7831-1773273600-1773446399@dancingpinesmontessori.com
SUMMARY:No School\, teacher workshop and training days
DESCRIPTION:
URL:https://dancingpinesmontessori.com/event/no-school-teacher-workshop-and-training-days/
CATEGORIES:DPM Calendar
END:VEVENT
BEGIN:VEVENT
DTSTART;TZID=America/Los_Angeles:20260302T080000
DTEND;TZID=America/Los_Angeles:20260302T170000
DTSTAMP:20260421T141927
CREATED:20250912T223314Z
LAST-MODIFIED:20250912T223314Z
UID:7829-1772438400-1772470800@dancingpinesmontessori.com
SUMMARY:Register for Summer Camps!
DESCRIPTION:Registration for our DPM summer camps open today. Please check your emails for forms from Transparent Classroom to enroll.
URL:https://dancingpinesmontessori.com/event/register-for-summer-camps/
CATEGORIES:DPM Calendar
END:VEVENT
BEGIN:VEVENT
DTSTART;VALUE=DATE:20260216
DTEND;VALUE=DATE:20260221
DTSTAMP:20260421T141927
CREATED:20250912T223152Z
LAST-MODIFIED:20250912T223152Z
UID:7826-1771200000-1771631999@dancingpinesmontessori.com
SUMMARY:No School\, Presidents' Week Break
DESCRIPTION:No school this week!
URL:https://dancingpinesmontessori.com/event/no-school-presidents-week-break/
CATEGORIES:DPM Calendar
END:VEVENT
BEGIN:VEVENT
DTSTART;VALUE=DATE:20260119
DTEND;VALUE=DATE:20260120
DTSTAMP:20260421T141927
CREATED:20250912T223043Z
LAST-MODIFIED:20250912T223043Z
UID:7824-1768780800-1768867199@dancingpinesmontessori.com
SUMMARY:No school in honor of MLK day
DESCRIPTION:No School today in honor of Dr. Martin Luther King Jr. Day.
URL:https://dancingpinesmontessori.com/event/no-school-in-honor-of-mlk-day/
CATEGORIES:DPM Calendar
END:VEVENT
BEGIN:VEVENT
DTSTART;VALUE=DATE:20251222
DTEND;VALUE=DATE:20260103
DTSTAMP:20260421T141927
CREATED:20250912T180224Z
LAST-MODIFIED:20250912T180224Z
UID:7821-1766361600-1767398399@dancingpinesmontessori.com
SUMMARY:No School for Holiday Break
DESCRIPTION:December 19th is a half day for all students. \nSchool will be closed and teachers unavailable/off campus from December 22nd through January 2nd. \nHappy holidays everyone!
URL:https://dancingpinesmontessori.com/event/no-school-for-holiday-break/
CATEGORIES:DPM Calendar
END:VEVENT
BEGIN:VEVENT
DTSTART;VALUE=DATE:20251219
DTEND;VALUE=DATE:20251220
DTSTAMP:20260421T141927
CREATED:20250912T175944Z
LAST-MODIFIED:20250912T175944Z
UID:7819-1766102400-1766188799@dancingpinesmontessori.com
SUMMARY:Half-Day today for ALL Students!
DESCRIPTION:Today is the last day before holiday break\, and it is a Half day for ALL students in ALL classrooms. \nPrimary parents please arrive at 11:45\, Lower El: 11:50\, Upper El: 11:55\, in an effort to avoid traffic on 172nd.
URL:https://dancingpinesmontessori.com/event/half-day-today-for-all-students/
CATEGORIES:DPM Calendar
END:VEVENT
BEGIN:VEVENT
DTSTART;VALUE=DATE:20251126
DTEND;VALUE=DATE:20251129
DTSTAMP:20260421T141927
CREATED:20250912T175712Z
LAST-MODIFIED:20250912T175712Z
UID:7817-1764115200-1764374399@dancingpinesmontessori.com
SUMMARY:No School\, Thanksgiving Break
DESCRIPTION:Enjoy the break! We will see students back on Monday\, December 1st- Normal Schedule.
URL:https://dancingpinesmontessori.com/event/no-school-thanksgiving-break-2/
CATEGORIES:DPM Calendar
END:VEVENT
BEGIN:VEVENT
DTSTART;VALUE=DATE:20251124
DTEND;VALUE=DATE:20251126
DTSTAMP:20260421T141927
CREATED:20250912T175550Z
LAST-MODIFIED:20250912T175603Z
UID:7814-1763942400-1764115199@dancingpinesmontessori.com
SUMMARY:No Classes\, Parent Teacher Conferences
DESCRIPTION:We will post the signupsenius link here\, and email it out when it’s time to sign up. \nNo school all this week. No classes Monday or Tuesday for parent teacher conferences. No school Wednesday through Friday for Thanksgiving Break. We will see everyone back on Monday.
URL:https://dancingpinesmontessori.com/event/no-classes-parent-teacher-conferences/
CATEGORIES:DPM Calendar
END:VEVENT
BEGIN:VEVENT
DTSTART;VALUE=DATE:20251111
DTEND;VALUE=DATE:20251112
DTSTAMP:20260421T141927
CREATED:20250912T175338Z
LAST-MODIFIED:20250912T175338Z
UID:7812-1762819200-1762905599@dancingpinesmontessori.com
SUMMARY:No School\, Veterans Day
DESCRIPTION:Veterans Day\, No School
URL:https://dancingpinesmontessori.com/event/no-school-veterans-day/
CATEGORIES:DPM Calendar
END:VEVENT
BEGIN:VEVENT
DTSTART;VALUE=DATE:20251110
DTEND;VALUE=DATE:20251111
DTSTAMP:20260421T141927
CREATED:20250912T175247Z
LAST-MODIFIED:20250912T175253Z
UID:7810-1762732800-1762819199@dancingpinesmontessori.com
SUMMARY:No School\, Teacher Workshop Day
DESCRIPTION:No school on the 10th for teacher workshop day\, and no school the 11th for Veterans Day.
URL:https://dancingpinesmontessori.com/event/no-school-teacher-workshop-day-5/
CATEGORIES:DPM Calendar
END:VEVENT
BEGIN:VEVENT
DTSTART;VALUE=DATE:20251031
DTEND;VALUE=DATE:20251101
DTSTAMP:20260421T141927
CREATED:20250910T173749Z
LAST-MODIFIED:20250910T174324Z
UID:7795-1761868800-1761955199@dancingpinesmontessori.com
SUMMARY:Harvest Fest for Students!
DESCRIPTION:All students are welcome to attend this event. If you have a student who does not attend on Fridays\, please plan to chaperone them to this in school event. Time TBD\, will send out a notice as we get closer to the date.
URL:https://dancingpinesmontessori.com/event/harvest-fest-for-students/
CATEGORIES:DPM Calendar
END:VEVENT
BEGIN:VEVENT
DTSTART;TZID=America/Los_Angeles:20251024T104500
DTEND;TZID=America/Los_Angeles:20251024T123000
DTSTAMP:20260421T141927
CREATED:20250910T172416Z
LAST-MODIFIED:20250910T174324Z
UID:7794-1761302700-1761309000@dancingpinesmontessori.com
SUMMARY:Thomasson Farms Field Trip
DESCRIPTION:No School today\, we will be meeting at Thomasson Family Farm: ALL students welcome to participate in this field trip with a parent/guardian. \n38223 236th Ave SE\, Enumclaw\, WA 98022 \nMessage from TFF: Parents: plan to be pulling into the parking lot at 10:45 so you have time to park\, unload\, and meet our group to begin at 11am. This allows time for your group to assemble\, and band each student and chaperone for entry. Timely arrival is important to ensure you can visit each farm station. Field trip students and siblings (ages 2 and up) are $12.00 each and will participate fully and receive a pumpkin. Accompanying adults are $8.00\, and one teacher per group receives free admission. Please collect all payments in advance and visit our website for additional tips on preparing for your field trip. Field Trip Tips: www.thomassonfarm.com/field-trips/ \nImportant note: \n\nStay and play!  Your bracelet is good for the day\, so after your scheduled field trip is over\, you are welcome to stay with your family to play at the farm or shop.
URL:https://dancingpinesmontessori.com/event/thomasson-farms-field-trip/
CATEGORIES:DPM Calendar
END:VEVENT
BEGIN:VEVENT
DTSTART;TZID=America/Los_Angeles:20251017T170000
DTEND;TZID=America/Los_Angeles:20251017T210000
DTSTAMP:20260421T141927
CREATED:20251015T021848Z
LAST-MODIFIED:20251015T021848Z
UID:7887-1760720400-1760734800@dancingpinesmontessori.com
SUMMARY:Parents' Night Out with teacher Kelly!
DESCRIPTION:Halloween Themed party! 5-9pm\, or stay right after school until 9pm for a fun filled evening of Halloween themed activities\, food\, and fun with friends. Pick up starts at 8:50pm-9pm. Please send children with coats as they will be playing outside during pick up time in the chilly weather.
URL:https://dancingpinesmontessori.com/event/parents-night-out-with-teacher-kelly/
END:VEVENT
BEGIN:VEVENT
DTSTART;TZID=America/Los_Angeles:20251016T170000
DTEND;TZID=America/Los_Angeles:20251016T190000
DTSTAMP:20260421T141927
CREATED:20251015T021648Z
LAST-MODIFIED:20251015T021648Z
UID:7885-1760634000-1760641200@dancingpinesmontessori.com
SUMMARY:Curriculum Night!
DESCRIPTION:Come to Dancing Pines Montessori and participate in the Silent Journey through our three classrooms to see up close what our students work through.
URL:https://dancingpinesmontessori.com/event/curriculum-night/
END:VEVENT
BEGIN:VEVENT
DTSTART;TZID=America/Los_Angeles:20251001T094500
DTEND;TZID=America/Los_Angeles:20251001T130000
DTSTAMP:20260421T141927
CREATED:20250910T171648Z
LAST-MODIFIED:20250910T174324Z
UID:7793-1759311900-1759323600@dancingpinesmontessori.com
SUMMARY:Isaaquah Salmon Hatchery Field Trip
DESCRIPTION:No school today\, instead we are meeting at the Issaquah Salmon Hatchery for our field trip. Meeting at the hatchery by 9:45\, first group of students will go on the tour at 10am\, the other group will visit the troll at this time\, then we will swap and the other group will attend the tour at 11am. Optional: meeting for lunch at noon\, and students can enjoy play time.
URL:https://dancingpinesmontessori.com/event/isaaquah-salmon-hatchery-field-trip/
CATEGORIES:DPM Calendar
END:VEVENT
BEGIN:VEVENT
DTSTART;VALUE=DATE:20250926
DTEND;VALUE=DATE:20250927
DTSTAMP:20260421T141927
CREATED:20250910T170845Z
LAST-MODIFIED:20250910T174324Z
UID:7792-1758844800-1758931199@dancingpinesmontessori.com
SUMMARY:No School\, Teacher Workshop Day
DESCRIPTION:Teachers will be meeting at Harbor Montessori for an observation and training session. No school.
URL:https://dancingpinesmontessori.com/event/no-school-teacher-workshop-day-4/
CATEGORIES:DPM Calendar
END:VEVENT
BEGIN:VEVENT
DTSTART;TZID=America/Los_Angeles:20250903T090000
DTEND;TZID=America/Los_Angeles:20250903T153000
DTSTAMP:20260421T141927
CREATED:20250910T170801Z
LAST-MODIFIED:20250910T174324Z
UID:7791-1756890000-1756913400@dancingpinesmontessori.com
SUMMARY:First full day of school for all new AND returning students in all classrooms
DESCRIPTION:First full day (as in normal schedules\, half day students are still half day\, full day students full day) of school for all new AND returning students in all classrooms
URL:https://dancingpinesmontessori.com/event/first-full-day-of-school-for-all-new-and-returning-students-in-all-classrooms/
CATEGORIES:DPM Calendar
END:VEVENT
BEGIN:VEVENT
DTSTART;TZID=America/Los_Angeles:20250902T090000
DTEND;TZID=America/Los_Angeles:20250902T120000
DTSTAMP:20260421T141927
CREATED:20250910T170616Z
LAST-MODIFIED:20250910T174324Z
UID:7788-1756803600-1756814400@dancingpinesmontessori.com
SUMMARY:1st day of school for all elementary students and brand new primary students\, half day!
DESCRIPTION:1st day of school for returning elementary students and brand new primary students\, half day!
URL:https://dancingpinesmontessori.com/event/1st-day-of-school-for-returning-elementary-students-and-brand-new-primary-students-half-day/
CATEGORIES:DPM Calendar
END:VEVENT
BEGIN:VEVENT
DTSTART;VALUE=DATE:20241031
DTEND;VALUE=DATE:20241101
DTSTAMP:20260421T141927
CREATED:20240723T204011Z
LAST-MODIFIED:20240723T204011Z
UID:7604-1730332800-1730419199@dancingpinesmontessori.com
SUMMARY:Harvest Fest at DPM\, normal schedule
DESCRIPTION:
URL:https://dancingpinesmontessori.com/event/harvest-fest-at-dpm-normal-schedule/
CATEGORIES:DPM Calendar
END:VEVENT
BEGIN:VEVENT
DTSTART;VALUE=DATE:20241025
DTEND;VALUE=DATE:20241026
DTSTAMP:20260421T141927
CREATED:20240723T203540Z
LAST-MODIFIED:20240723T203900Z
UID:7600-1729814400-1729900799@dancingpinesmontessori.com
SUMMARY:Field Trip! Thomasson Farms
DESCRIPTION:DPM Campus Closed\, meeting at Thomasson Farms at 11:15am\, tour starts at 11:30am-1pm. \nPumpkin Patch | Halloween Pumpkin Patch | Auburn Pumpkin Patch (thomassonfarm.com) \n38223 236th Ave SE\, Enumclaw\, WA 98022 \nEat lunch there\, and have the rest of the afternoon to enjoy the corn maze\, jumbo slides\, corn pit\, animals\, pumpkin patch\, market store\, snacks\, etc. Tickets are good for the whole day. $10 per student and siblings (over 2) and $5 per adult
URL:https://dancingpinesmontessori.com/event/field-trip-thomasson-farms/
CATEGORIES:DPM Calendar
END:VEVENT
BEGIN:VEVENT
DTSTART;VALUE=DATE:20241011
DTEND;VALUE=DATE:20241012
DTSTAMP:20260421T141927
CREATED:20240723T203250Z
LAST-MODIFIED:20240723T203303Z
UID:7598-1728604800-1728691199@dancingpinesmontessori.com
SUMMARY:Field Trip! Issaquah Salmon Hatchery
DESCRIPTION:DPM Closed: Meeting at the Issaquah Salmon Hatchery at 9:45am: Keep the Salmon Coming Home (issaquahfish.org) \n1st group will tour at 10am while the other group will visit Jakob Two Trees\, https://www.issaquahwa.gov/3426/Jakob-Two-Trees-Issaquahs-Troll  \nfollowed by snack/lunch in Gibson Park \n2nd group tour starts at 12pm\, 1st group will then head to Gibson Park for lunch\, and then visit Jakob Two Trees.
URL:https://dancingpinesmontessori.com/event/field-trip-issaquah-salmon-hatchery/
CATEGORIES:DPM Calendar
END:VEVENT
BEGIN:VEVENT
DTSTART;VALUE=DATE:20240927
DTEND;VALUE=DATE:20240928
DTSTAMP:20260421T141927
CREATED:20240723T202836Z
LAST-MODIFIED:20240723T202836Z
UID:7595-1727395200-1727481599@dancingpinesmontessori.com
SUMMARY:No School\, Teacher Workshop Day
DESCRIPTION:Teachers on campus\, no students on campus.
URL:https://dancingpinesmontessori.com/event/no-school-teacher-workshop-day-3/
CATEGORIES:DPM Calendar
END:VEVENT
BEGIN:VEVENT
DTSTART;VALUE=DATE:20240904
DTEND;VALUE=DATE:20240905
DTSTAMP:20260421T141927
CREATED:20240723T202726Z
LAST-MODIFIED:20240723T202726Z
UID:7593-1725408000-1725494399@dancingpinesmontessori.com
SUMMARY:Primary: 1st day for all returning students
DESCRIPTION:Normal schedule for everyone!
URL:https://dancingpinesmontessori.com/event/primary-1st-day-for-all-returning-students/
CATEGORIES:DPM Calendar
END:VEVENT
BEGIN:VEVENT
DTSTART;VALUE=DATE:20240903
DTEND;VALUE=DATE:20240904
DTSTAMP:20260421T141927
CREATED:20240723T202433Z
LAST-MODIFIED:20240723T202447Z
UID:7587-1725321600-1725407999@dancingpinesmontessori.com
SUMMARY:Half Day! 12pm pick up
DESCRIPTION:First day of school for NEW Primary students (ages 3-6) and all Lower and Upper Elementary students. 9am-12pm
URL:https://dancingpinesmontessori.com/event/half-day-12pm-pick-up/
CATEGORIES:DPM Calendar
END:VEVENT
BEGIN:VEVENT
DTSTART;TZID=America/Los_Angeles:20240828T140000
DTEND;TZID=America/Los_Angeles:20240828T160000
DTSTAMP:20260421T141927
CREATED:20240723T202610Z
LAST-MODIFIED:20240723T202610Z
UID:7590-1724853600-1724860800@dancingpinesmontessori.com
SUMMARY:Orientation Day
DESCRIPTION:2pm new families and students\, 3pm returning families and students. Ice cream and popsicles to follow!
URL:https://dancingpinesmontessori.com/event/orientation-day/
CATEGORIES:DPM Calendar
END:VEVENT
BEGIN:VEVENT
DTSTART;TZID=America/Los_Angeles:20240614T090000
DTEND;TZID=America/Los_Angeles:20240614T120000
DTSTAMP:20260421T141927
CREATED:20240202T223716Z
LAST-MODIFIED:20240723T201454Z
UID:7438-1718355600-1718366400@dancingpinesmontessori.com
SUMMARY:Last day of school\, HALF DAY
DESCRIPTION:Potluck is at 12 at Covington Park
URL:https://dancingpinesmontessori.com/event/last-day-of-school-half-day/
CATEGORIES:DPM Calendar
END:VEVENT
END:VCALENDAR